BEGIN:VCALENDAR
VERSION:2.0
PRODID:-//ChamberMaster//Event Calendar 2.0//EN
METHOD:PUBLISH
X-PUBLISHED-TTL:P3D
REFRESH-INTERVAL:P3D
CALSCALE:GREGORIAN
BEGIN:VEVENT
DTSTART:20130405T003000Z
DTEND:20130405T023000Z
X-MICROSOFT-CDO-ALLDAYEVENT:FALSE
SUMMARY:2013 Research Reception: Research in Action
DESCRIPTION:Keynote Speaker:  \n\nInder Verma\, PhD\, \n\nThe Salk Institute\n\nDr. Verma is a recent American Cancer Society Research Professor\, and an authority on the development of viruses for gene therapy vectors.  He is the project leader for the Helmsley Center for Genomic Medicine\, established to support interdisciplinary research for new therapies for chronic illnesses such as cancer.\n\n \n\nFeatured Speaker: \n\nMolly Daniels \n\nDeputy President\, American Cancer Society Cancer Action Network (ACS CAN)\n\nResearchers from local cancer research institutions will\n\n share their work during the reception.
X-ALT-DESC;FMTTYPE=text/html:<span style="letter-spacing:.15pt\;"><span style="color:#0066b2\;"><span style="font-family:frutigerltstd-bold\;"><span style="font-size:16.0pt\;">Keynote Speaker:&nbsp\; </span></span></span></span><br />\n<strong><span style="letter-spacing:.15pt\;"><span style="color:#0066b2\;"><span style="font-family:frutigerltstd-bold\;"><span style="font-size:16.0pt\;">Inder Verma\, PhD\, </span></span></span></span></strong><br />\n<strong><span style="letter-spacing:.15pt\;"><span style="color:#0066b2\;"><span style="font-family:frutigerltstd-bold\;"><span style="font-size:16.0pt\;">The Salk Institute</span></span></span></span></strong><br />\n<span style="letter-spacing:.1pt\;"><span style="color:black\;"><span style="font-family:frutigerltstd-light\;"><span style="font-size:11.0pt\;">Dr. Verma is a recent American Cancer Society Research Professor\, and an authority on the development of viruses for gene therapy vectors.&nbsp\; He is the project leader for the Helmsley Center for Genomic Medicine\, established to support interdisciplinary research for new therapies for chronic illnesses such as cancer.</span></span></span></span><br />\n&nbsp\;<br />\n<span style="letter-spacing:.15pt\;"><span style="color:#0066b2\;"><span style="font-family:frutigerltstd-bold\;"><span style="font-size:14.0pt\;">Featured Speaker: </span></span></span></span><br />\n<span style="letter-spacing:.1pt\;"><span style="font-family:frutigerltstd-light\;">Molly Daniels </span></span><br />\n<span style="letter-spacing:.1pt\;"><span style="font-family:frutigerltstd-light\;"><span style="font-size:11.0pt\;">Deputy President\, American Cancer Society Cancer Action Network (ACS CAN)</span></span></span><br />\n<span style="letter-spacing:.15pt\;"><span style="color:#0066b2\;"><span style="font-family:frutigerltstd-bold\;"><span style="font-size:12.0pt\;">Researchers from local cancer research institutions will</span></span></span></span><br />\n<span style="letter-spacing:.15pt\;"><span style="color:#0066b2\;"><span style="font-family:frutigerltstd-bold\;"><span style="font-size:12.0pt\;">&nbsp\;share their work during the reception.</span></span></span></span>
LOCATION:AMN Healthcare 12400 High Bluff Dr San Diego\, CA 92131
UID:e.784.2870
SEQUENCE:3
DTSTAMP:20260421T224745Z
URL:https://chamber.sdbusinesschamber.com/events/details/2013-research-reception-research-in-action-04-04-2013-2870
END:VEVENT

END:VCALENDAR
