BEGIN:VCALENDAR
VERSION:2.0
PRODID:-//ChamberMaster//Event Calendar 2.0//EN
METHOD:PUBLISH
X-PUBLISHED-TTL:P3D
REFRESH-INTERVAL:P3D
CALSCALE:GREGORIAN
BEGIN:VEVENT
DTSTART:20110625T010000Z
DTEND:20110625T040000Z
X-MICROSOFT-CDO-ALLDAYEVENT:FALSE
SUMMARY:2011 Celebration of Business
DESCRIPTION:Spend an evening taking in the amazingly beautiful panorama from the Del Lago Gardens at Maderas Golf Club\, followed by an exciting and entertaining program in the spectacular Del Lago Ballroom.\n\n\n\nCelebrate the best and brightest of San Diego County's business community. Highlighting achievements in corporate and individual categories\, we will present the Business Achievement Awards in nine prestigious categories.\n\n \n\nThis event is a true celebration of doing business successfully\, doing business responsibly\, and doing business in the spirit of San Diego North.\n\n\n\nSpecial Guests Include:\n\nActor Robert Wagner\n\nAssemblyman Nathan Fletcher\n\nMayor Jerry Sanders\n\nCouncilmember Carl DeMaio
X-ALT-DESC;FMTTYPE=text/html:<div>\n<div>Spend an evening taking in the amazingly beautiful panorama from the Del Lago Gardens at Maderas Golf Club\, followed by an exciting and entertaining program in the spectacular Del Lago Ballroom.</div>\n\n<div><br />\nCelebrate the best and brightest of San Diego County&#39\;s business community. Highlighting achievements in corporate and individual categories\, we will present the Business Achievement Awards in nine prestigious categories.<br />\n&nbsp\;</div>\n\n<div>This event is a true celebration of doing business successfully\, doing business responsibly\, and doing business in the spirit of San Diego North.</div>\n\n<h3><br />\nSpecial Guests Include:</h3>\n\n<div>Actor Robert Wagner<br />\nAssemblyman Nathan Fletcher<br />\nMayor Jerry Sanders<br />\nCouncilmember Carl DeMaio<br />\n&nbsp\;</div>\n</div>\n
LOCATION:Maderas Golf Club\, Del Lago Ballroom 17750 Old Coach Road Poway CA 92064
UID:e.784.2293
SEQUENCE:3
DTSTAMP:20260423T070301Z
URL:https://chamber.sdbusinesschamber.com/events/details/2011-celebration-of-business-2293
END:VEVENT

END:VCALENDAR
