BEGIN:VCALENDAR
VERSION:2.0
PRODID:-//ChamberMaster//Event Calendar 2.0//EN
METHOD:PUBLISH
X-PUBLISHED-TTL:P3D
REFRESH-INTERVAL:P3D
CALSCALE:GREGORIAN
BEGIN:VEVENT
DTSTART:20100225T080000Z
DTEND:20100225T080000Z
X-MICROSOFT-CDO-ALLDAYEVENT:FALSE
SUMMARY:2010 State of the Region
DESCRIPTION:
X-ALT-DESC;FMTTYPE=text/html:
LOCATION:MCCS - Marketing\, MCAS Miramar
UID:e.784.985
SEQUENCE:3
DTSTAMP:20260424T054410Z
URL:https://chamber.sdbusinesschamber.com/events/details/2010-state-of-the-region-02-25-2010-985
END:VEVENT

END:VCALENDAR
