BEGIN:VCALENDAR
VERSION:2.0
PRODID:-//ChamberMaster//Event Calendar 2.0//EN
METHOD:PUBLISH
X-PUBLISHED-TTL:P3D
REFRESH-INTERVAL:P3D
CALSCALE:GREGORIAN
BEGIN:VEVENT
DTSTART:20201112T170000Z
DTEND:20201112T233000Z
X-MICROSOFT-CDO-ALLDAYEVENT:FALSE
SUMMARY:14th Annual Employment Law Symposium - A Virtual Event
DESCRIPTION:Join the award-winning employment law attorneys of Pettit Kohn Ingrassia Lutz & Dolin for their 14th Annual Employment Law Symposium - Virtual Event as they provide critical information and knowledge vital to the successful human resource professional and business owner.\n\n \n\n\n\n\n\nOn Thursday\, November 12th\, you will learn about the most recent legislative developments in labor and employment law\, along with the best employment practices to reduce your company's risk of liability.\n\nTOPICS INCLUDE:\n\n\n	California Harassment\, Discrimination\, and Retaliation Update\n	California Wage and Hour Update\n	Class Action & PAGA Lawsuits\n	Litigation Trends\n	COVID-19 State of the Union\n	Understanding Plaintiff Strategies\n	Mental Health Wellness\n\n\nWHO SHOULD ATTEND:\n\n\n	Human Resource Professionals\n	Managers\, Supervisors\, and Team Leaders\n	Business Owners\n	Executives\n	Legal Professionals\n	Business leaders who are truly concerned about their most precious asset: People\n\n\nThis program will benefit professionals from every industry. Special group pricing available.\n\nPRICING INFO:\n\n\n	Early Bird Rate through October 16: $99 Per Person\n	Regular Rate October 17 - November 11: $129 Per Person\n	Group Rates Available\n\n\nThis program has been approved for 6.0 HR Certification Institute Credits and SHRM Professional Development Credits. Pettit Kohn Ingrassia Lutz & Dolin is recognized by SHRM to offer Professional Development Credits for SHRM-CP or SHRM-SCP. For more information about certification or recertification\, please visit the HR Certification institute website at www.hrci.org or SHRM website at www.shrm.org/certification.
X-ALT-DESC;FMTTYPE=text/html:<span style="font-size:14px"><span style="background-color:rgb(255\, 255\, 255)\; color:rgb(111\, 114\, 135)\; font-family:neue plak\,-apple-system\,blinkmacsystemfont\,roboto\,helvetica neue\,helvetica\,tahoma\,arial\,sans-serif">Join the award-winning employment law attorneys of Pettit Kohn Ingrassia Lutz &amp\; Dolin for their 14th Annual Employment Law Symposium - Virtual Event as they provide critical information and knowledge vital to the successful human resource professional and business owner.</span></span><br />\n&nbsp\;\n<div>\n<div>\n<div>\n<div>\n<div>\n<p><span style="font-size:14px">On Thursday\, November 12th\, you will learn about the most recent legislative developments in labor and employment law\, along with the best employment practices to reduce your company&#39\;s risk of liability.</span></p>\n\n<p><span style="font-size:14px">TOPICS INCLUDE:</span></p>\n\n<ul>\n	<li><span style="font-size:14px">California Harassment\, Discrimination\, and Retaliation Update</span></li>\n	<li><span style="font-size:14px">California Wage and Hour Update</span></li>\n	<li><span style="font-size:14px">Class Action &amp\; PAGA Lawsuits</span></li>\n	<li><span style="font-size:14px">Litigation Trends</span></li>\n	<li><span style="font-size:14px">COVID-19 State of the Union</span></li>\n	<li><span style="font-size:14px">Understanding Plaintiff Strategies</span></li>\n	<li><span style="font-size:14px">Mental Health Wellness</span></li>\n</ul>\n\n<p><span style="font-size:14px">WHO SHOULD ATTEND:</span></p>\n\n<ul>\n	<li><span style="font-size:14px">Human Resource Professionals</span></li>\n	<li><span style="font-size:14px">Managers\, Supervisors\, and Team Leaders</span></li>\n	<li><span style="font-size:14px">Business Owners</span></li>\n	<li><span style="font-size:14px">Executives</span></li>\n	<li><span style="font-size:14px">Legal Professionals</span></li>\n	<li><span style="font-size:14px">Business leaders who are truly concerned about their most precious asset: People</span></li>\n</ul>\n\n<p><span style="font-size:14px">This program will benefit professionals from every industry. Special group pricing available.</span></p>\n\n<p><span style="font-size:14px">PRICING INFO:</span></p>\n\n<ul>\n	<li><span style="font-size:14px">Early Bird Rate through October 16: $99 Per Person</span></li>\n	<li><span style="font-size:14px">Regular Rate October 17 - November 11: $129 Per Person</span></li>\n	<li><span style="font-size:14px">Group Rates Available</span></li>\n</ul>\n\n<p><span style="font-size:14px">This program has been approved for 6.0 HR Certification Institute Credits and SHRM Professional Development Credits. Pettit Kohn Ingrassia Lutz &amp\; Dolin is recognized by SHRM to offer Professional Development Credits for SHRM-CP or SHRM-SCP. For more information about certification or recertification\, please visit the HR Certification institute website at www.hrci.org or SHRM website at www.shrm.org/certification.</span></p>\n</div>\n</div>\n</div>\n</div>\n\n<div>\n<div>\n<div>\n<div>\n<h3>&nbsp\;</h3>\n</div>\n</div>\n</div>\n</div>\n</div>\n
LOCATION:Virtual Event at www.hrlawevent.com
UID:e.784.26527
SEQUENCE:3
DTSTAMP:20260425T182424Z
URL:https://chamber.sdbusinesschamber.com/events/details/14th-annual-employment-law-symposium-a-virtual-event-26527
END:VEVENT

END:VCALENDAR
